BEGIN:VCALENDAR
VERSION:2.0
PRODID:-//Motorradbiathlon - ECPv6.15.20//NONSGML v1.0//EN
CALSCALE:GREGORIAN
METHOD:PUBLISH
X-ORIGINAL-URL:https://motorradbiathlon.de
X-WR-CALDESC:Veranstaltungen für Motorradbiathlon
REFRESH-INTERVAL;VALUE=DURATION:PT1H
X-Robots-Tag:noindex
X-PUBLISHED-TTL:PT1H
BEGIN:VTIMEZONE
TZID:UTC
BEGIN:STANDARD
TZOFFSETFROM:+0000
TZOFFSETTO:+0000
TZNAME:UTC
DTSTART:20250101T000000
END:STANDARD
END:VTIMEZONE
BEGIN:VEVENT
DTSTART;VALUE=DATE:20260425
DTEND;VALUE=DATE:20260426
DTSTAMP:20260420T123850
CREATED:20251227T121730Z
LAST-MODIFIED:20260208T211907Z
UID:3030-1777075200-1777161599@motorradbiathlon.de
SUMMARY:Motorradbiathlon Torgau-Neiden\, Termin wurde gestrichen ! Veranstaltung findet nicht statt.
DESCRIPTION:Termin wurde gestrichen ! Veranstaltung findet nicht statt. Eventuell wird ein neuer Termin festgelegt welcher dann auch auf Motorradbiathlon.de veröffentlicht wird.
URL:https://motorradbiathlon.de/event/motorradbiathlon-torgau-neiden
LOCATION:MSC Pflückuff e.V. im ADAC\, Am Österreicher 10\, Elsnig OT Neiden\, 04880\, Germany
CATEGORIES:Termine 2026 Motorradbiathlon
END:VEVENT
BEGIN:VEVENT
DTSTART;VALUE=DATE:20260425
DTEND;VALUE=DATE:20260427
DTSTAMP:20260420T123850
CREATED:20251227T121055Z
LAST-MODIFIED:20260403T152828Z
UID:3027-1777075200-1777247999@motorradbiathlon.de
SUMMARY:Motorradbiathlon Diehloer Bergring Eisenhüttenstatt
DESCRIPTION:BBM (Berlin-Brandenburg – Meisterschaft) SAM (Sachsen-Anhalt-Meisterschaft) \nVoranmeldung hier
URL:https://motorradbiathlon.de/event/motorradbiathlon-diehloer-bergring-eisenhuettenstatt-2
LOCATION:Diehlo/Eisenhüttenstatt\, DMC Diehloer Bergring\, Neuzelle\, Brandenburg\, 15898
CATEGORIES:Termine 2026 Motorradbiathlon
END:VEVENT
END:VCALENDAR